BEGIN:VCALENDAR
VERSION:2.0
PRODID:-//www.northwestharmony.com - ECPv6.15.20//NONSGML v1.0//EN
CALSCALE:GREGORIAN
METHOD:PUBLISH
X-WR-CALNAME:www.northwestharmony.com
X-ORIGINAL-URL:https://www.northwestharmony.com
X-WR-CALDESC:Events for www.northwestharmony.com
REFRESH-INTERVAL;VALUE=DURATION:PT1H
X-Robots-Tag:noindex
X-PUBLISHED-TTL:PT1H
BEGIN:VTIMEZONE
TZID:America/Los_Angeles
BEGIN:DAYLIGHT
TZOFFSETFROM:-0800
TZOFFSETTO:-0700
TZNAME:PDT
DTSTART:20250309T100000
END:DAYLIGHT
BEGIN:STANDARD
TZOFFSETFROM:-0700
TZOFFSETTO:-0800
TZNAME:PST
DTSTART:20251102T090000
END:STANDARD
BEGIN:DAYLIGHT
TZOFFSETFROM:-0800
TZOFFSETTO:-0700
TZNAME:PDT
DTSTART:20260308T100000
END:DAYLIGHT
BEGIN:STANDARD
TZOFFSETFROM:-0700
TZOFFSETTO:-0800
TZNAME:PST
DTSTART:20261101T090000
END:STANDARD
BEGIN:DAYLIGHT
TZOFFSETFROM:-0800
TZOFFSETTO:-0700
TZNAME:PDT
DTSTART:20270314T100000
END:DAYLIGHT
BEGIN:STANDARD
TZOFFSETFROM:-0700
TZOFFSETTO:-0800
TZNAME:PST
DTSTART:20271107T090000
END:STANDARD
END:VTIMEZONE
BEGIN:VEVENT
DTSTART;TZID=America/Los_Angeles:20260509T130000
DTEND;TZID=America/Los_Angeles:20260509T150000
DTSTAMP:20260421T032522
CREATED:20260402T181943Z
LAST-MODIFIED:20260402T182024Z
UID:2798-1778331600-1778338800@www.northwestharmony.com
SUMMARY:Lilac Days Performance
DESCRIPTION:Come join us for a beautiful afternoon of song amongst the lovely lilacs! $10 Admission fee to the gardens\, children 12 and under are free. For more information about the Lilac Days festival click here. \nSaturday\, May 9th \n1-3 PM \nHulda Klager Lilac Gardens \n115 S Pekin Rd\, Woodland\, WA 98674
URL:https://www.northwestharmony.com/events/2798/
LOCATION:Hulda Klager Lilac Gardens\, 115 South Pekin Road\, Woodland\, WA\, 98674\, United States
CATEGORIES:Community,Performances
ATTACH;FMTTYPE=image/png:https://www.northwestharmony.com/wp-content/uploads/2026/04/Untitled-1-2.png
END:VEVENT
END:VCALENDAR