BEGIN:VCALENDAR
VERSION:2.0
PRODID:-//www.northwestharmony.com - ECPv6.15.20//NONSGML v1.0//EN
CALSCALE:GREGORIAN
METHOD:PUBLISH
X-WR-CALNAME:www.northwestharmony.com
X-ORIGINAL-URL:https://www.northwestharmony.com
X-WR-CALDESC:Events for www.northwestharmony.com
REFRESH-INTERVAL;VALUE=DURATION:PT1H
X-Robots-Tag:noindex
X-PUBLISHED-TTL:PT1H
BEGIN:VTIMEZONE
TZID:America/Los_Angeles
BEGIN:DAYLIGHT
TZOFFSETFROM:-0800
TZOFFSETTO:-0700
TZNAME:PDT
DTSTART:20250309T100000
END:DAYLIGHT
BEGIN:STANDARD
TZOFFSETFROM:-0700
TZOFFSETTO:-0800
TZNAME:PST
DTSTART:20251102T090000
END:STANDARD
BEGIN:DAYLIGHT
TZOFFSETFROM:-0800
TZOFFSETTO:-0700
TZNAME:PDT
DTSTART:20260308T100000
END:DAYLIGHT
BEGIN:STANDARD
TZOFFSETFROM:-0700
TZOFFSETTO:-0800
TZNAME:PST
DTSTART:20261101T090000
END:STANDARD
BEGIN:DAYLIGHT
TZOFFSETFROM:-0800
TZOFFSETTO:-0700
TZNAME:PDT
DTSTART:20270314T100000
END:DAYLIGHT
BEGIN:STANDARD
TZOFFSETFROM:-0700
TZOFFSETTO:-0800
TZNAME:PST
DTSTART:20271107T090000
END:STANDARD
END:VTIMEZONE
BEGIN:VEVENT
DTSTART;TZID=America/Los_Angeles:20260314T090000
DTEND;TZID=America/Los_Angeles:20260314T160000
DTSTAMP:20260421T032044
CREATED:20260209T182408Z
LAST-MODIFIED:20260223T191544Z
UID:2747-1773478800-1773504000@www.northwestharmony.com
SUMMARY:Spring Market
DESCRIPTION:We are so excited to be returning as a vendor at the Living Hope Xchange Spring Market! Come and see us! It’s the perfect opportunity to purchase some nuts and support our chorus! \nSaturday\, March 14 \nLiving Hope XChange Church \n2711 NE Andresen Rd\, Vancouver\, WA 98661 \n9 AM – 4 PM
URL:https://www.northwestharmony.com/events/spring-market/
LOCATION:Living Hope Xchange Church\, 2711 NE Andresen Rd\, Vancouver\, WA\, 98661\, United States
CATEGORIES:Fundraising
ATTACH;FMTTYPE=image/png:https://www.northwestharmony.com/wp-content/uploads/2026/02/2026-Spring-Market-Save-The-Date.png
END:VEVENT
END:VCALENDAR