BEGIN:VCALENDAR
VERSION:2.0
PRODID:-//www.northwestharmony.com - ECPv6.15.20//NONSGML v1.0//EN
CALSCALE:GREGORIAN
METHOD:PUBLISH
X-WR-CALNAME:www.northwestharmony.com
X-ORIGINAL-URL:https://www.northwestharmony.com
X-WR-CALDESC:Events for www.northwestharmony.com
REFRESH-INTERVAL;VALUE=DURATION:PT1H
X-Robots-Tag:noindex
X-PUBLISHED-TTL:PT1H
BEGIN:VTIMEZONE
TZID:America/Los_Angeles
BEGIN:DAYLIGHT
TZOFFSETFROM:-0800
TZOFFSETTO:-0700
TZNAME:PDT
DTSTART:20250309T100000
END:DAYLIGHT
BEGIN:STANDARD
TZOFFSETFROM:-0700
TZOFFSETTO:-0800
TZNAME:PST
DTSTART:20251102T090000
END:STANDARD
BEGIN:DAYLIGHT
TZOFFSETFROM:-0800
TZOFFSETTO:-0700
TZNAME:PDT
DTSTART:20260308T100000
END:DAYLIGHT
BEGIN:STANDARD
TZOFFSETFROM:-0700
TZOFFSETTO:-0800
TZNAME:PST
DTSTART:20261101T090000
END:STANDARD
BEGIN:DAYLIGHT
TZOFFSETFROM:-0800
TZOFFSETTO:-0700
TZNAME:PDT
DTSTART:20270314T100000
END:DAYLIGHT
BEGIN:STANDARD
TZOFFSETFROM:-0700
TZOFFSETTO:-0800
TZNAME:PST
DTSTART:20271107T090000
END:STANDARD
END:VTIMEZONE
BEGIN:VEVENT
DTSTART;TZID=America/Los_Angeles:20260328T140000
DTEND;TZID=America/Los_Angeles:20260328T160000
DTSTAMP:20260423T010813
CREATED:20260217T191004Z
LAST-MODIFIED:20260225T205141Z
UID:2778-1774706400-1774713600@www.northwestharmony.com
SUMMARY:Spring Send Off Show!
DESCRIPTION:Join Northwest Harmony Chorus and Columbia River Chorus for an unforgettable event full of music fun and harmony! We are ready to take the stage and share our competition packages with you! \nCome see what we have been hard at work on and cheer us on as we head of to our Region 13 Competition! \nSaturday\, March 28th \n2:00 PM \nVancouver United Church of Christ \n1220 NE 68th St\, Vancouver\, WA 98665
URL:https://www.northwestharmony.com/events/spring-send-off-show-3/
LOCATION:Vancouver United Church of Christ\, 1220 NE 68th St.\, VANCOUVER\, WA\, 98665\, United States
CATEGORIES:Community,Performances
ATTACH;FMTTYPE=image/png:https://www.northwestharmony.com/wp-content/uploads/2026/02/Springsendoff-instagramstory-1.png
END:VEVENT
END:VCALENDAR