BEGIN:VCALENDAR
VERSION:2.0
PRODID:-//www.northwestharmony.com - ECPv6.15.20//NONSGML v1.0//EN
CALSCALE:GREGORIAN
METHOD:PUBLISH
X-WR-CALNAME:www.northwestharmony.com
X-ORIGINAL-URL:https://www.northwestharmony.com
X-WR-CALDESC:Events for www.northwestharmony.com
REFRESH-INTERVAL;VALUE=DURATION:PT1H
X-Robots-Tag:noindex
X-PUBLISHED-TTL:PT1H
BEGIN:VTIMEZONE
TZID:America/Los_Angeles
BEGIN:DAYLIGHT
TZOFFSETFROM:-0800
TZOFFSETTO:-0700
TZNAME:PDT
DTSTART:20250309T100000
END:DAYLIGHT
BEGIN:STANDARD
TZOFFSETFROM:-0700
TZOFFSETTO:-0800
TZNAME:PST
DTSTART:20251102T090000
END:STANDARD
BEGIN:DAYLIGHT
TZOFFSETFROM:-0800
TZOFFSETTO:-0700
TZNAME:PDT
DTSTART:20260308T100000
END:DAYLIGHT
BEGIN:STANDARD
TZOFFSETFROM:-0700
TZOFFSETTO:-0800
TZNAME:PST
DTSTART:20261101T090000
END:STANDARD
BEGIN:DAYLIGHT
TZOFFSETFROM:-0800
TZOFFSETTO:-0700
TZNAME:PDT
DTSTART:20270314T100000
END:DAYLIGHT
BEGIN:STANDARD
TZOFFSETFROM:-0700
TZOFFSETTO:-0800
TZNAME:PST
DTSTART:20271107T090000
END:STANDARD
END:VTIMEZONE
BEGIN:VEVENT
DTSTART;VALUE=DATE:20260621
DTEND;VALUE=DATE:20260622
DTSTAMP:20260421T043017
CREATED:20260413T172116Z
LAST-MODIFIED:20260413T172116Z
UID:2803-1782000000-1782086399@www.northwestharmony.com
SUMMARY:World Music Day Gala
DESCRIPTION:Save the date! We will have more exciting information coming soon! \nJune 21\, 2026
URL:https://www.northwestharmony.com/events/world-music-day-gala/
CATEGORIES:Fundraising
ATTACH;FMTTYPE=image/jpeg:https://www.northwestharmony.com/wp-content/uploads/2026/04/667885848_1380086367487430_3668813455250443910_n.jpg
END:VEVENT
END:VCALENDAR